BEGIN:VCALENDAR
VERSION:2.0
PRODID:-//ccl28.fr - ECPv6.15.16//NONSGML v1.0//EN
CALSCALE:GREGORIAN
METHOD:PUBLISH
X-ORIGINAL-URL:https://ccl28.fr
X-WR-CALDESC:Évènements pour ccl28.fr
REFRESH-INTERVAL;VALUE=DURATION:PT1H
X-Robots-Tag:noindex
X-PUBLISHED-TTL:PT1H
BEGIN:VTIMEZONE
TZID:Europe/Paris
BEGIN:DAYLIGHT
TZOFFSETFROM:+0100
TZOFFSETTO:+0200
TZNAME:CEST
DTSTART:20250330T010000
END:DAYLIGHT
BEGIN:STANDARD
TZOFFSETFROM:+0200
TZOFFSETTO:+0100
TZNAME:CET
DTSTART:20251026T010000
END:STANDARD
BEGIN:DAYLIGHT
TZOFFSETFROM:+0100
TZOFFSETTO:+0200
TZNAME:CEST
DTSTART:20260329T010000
END:DAYLIGHT
BEGIN:STANDARD
TZOFFSETFROM:+0200
TZOFFSETTO:+0100
TZNAME:CET
DTSTART:20261025T010000
END:STANDARD
BEGIN:DAYLIGHT
TZOFFSETFROM:+0100
TZOFFSETTO:+0200
TZNAME:CEST
DTSTART:20270328T010000
END:DAYLIGHT
BEGIN:STANDARD
TZOFFSETFROM:+0200
TZOFFSETTO:+0100
TZNAME:CET
DTSTART:20271031T010000
END:STANDARD
END:VTIMEZONE
BEGIN:VEVENT
DTSTART;TZID=Europe/Paris:20260323T083000
DTEND;TZID=Europe/Paris:20260327T163000
DTSTAMP:20260421T121132
CREATED:20260218T163412Z
LAST-MODIFIED:20260218T163412Z
UID:5920-1774254600-1774629000@ccl28.fr
SUMMARY:Semaine des langues 2026
DESCRIPTION:Les langues pour comprendre le monde\nDu 23 au 27 mars 2026\, le Centre Culturel & Linguistique interviendra au sein de l’école dans le cadre de la Semaine des langues vivantes\, un événement national initié par le ministère de l’Éducation nationale. \nCette édition 2026 s’inscrit sous le thème :« Les langues pour comprendre le monde »\, un fil conducteur fort qui invite les élèves à découvrir comment les langues permettent de mieux comprendre les cultures\, les autres et le vivre-ensemble.
URL:https://ccl28.fr/evenement/semaine-des-langues-mars-2026/
LOCATION:Ecole Jean-Paul II\, 4 Rue Pierre Faure\, Chartres\, 28000\, France
CATEGORIES:Animations
ATTACH;FMTTYPE=image/png:https://ccl28.fr/wp-content/uploads/2026/02/Semaine-des-Langues-_-Decouvrir-le-monde.avif
ORGANIZER;CN="Centre Culturel et Linguistique":MAILTO:contact@ccl28.fr
END:VEVENT
END:VCALENDAR